BEGIN:VCALENDAR
VERSION:2.0
PRODID:-//My Calendar//mxm.dk//
BEGIN:VEVENT
SUMMARY:PROYECTO MUMUKI | GRAL PICO
DTSTART:20251012T003000Z
DTEND:20251012T025500Z
DTSTAMP:20260421T071641Z
DESCRIPTION:
END:VEVENT
END:VCALENDAR
