BEGIN:VCALENDAR
VERSION:2.0
PRODID:-//My Calendar//mxm.dk//
BEGIN:VEVENT
SUMMARY:ADRIANA VARELA | ROSARIO
DTSTART:20251122T010000Z
DTEND:20251122T025900Z
DTSTAMP:20260421T135746Z
DESCRIPTION:<p class="MsoNoSpacing" align="center" style="text-align:cente
 r"><span style="font-size:36.0pt"><b><span style="font-size: 14pt\; font-f
 amily: &quot\;Arial Black&quot\;\;">ADRIANA VARELA </span><span style="col
 or: rgb(46\, 117\, 182)\; font-size: 14pt\; font-family: &quot\;Arial Blac
 k&quot\;\;">y Trío</span></b></span><span style="font-size:14.0pt"><o:p><
 /o:p></span></p><p class="MsoNoSpacing"><span style="font-size: 12pt\; fon
 t-family: Arial\;">Luego de un año de\nnumerosas presentaciones en Buenos
  Aires Capital y en el resto del país y el\nextranjero\, ADRIANA VARELA v
 uelve a cantar en Rosario.</span></p><p class="MsoNoSpacing"><span style="
 font-size: 12pt\; font-family: Arial\;">Para ello eligió hacerlo\nacompa
 ñada en el piano por el maestro Marcel Macri\, que es a la vez su directo
 r\nmusical. Un formato que le permite una libertad interpretativa tal que\
 , junto\ncon la impronta natural de Adriana con la público\, transforman 
 el evento en una\nespecie de reunión en el living de nuestra casa\, reite
 rando el mágico ritual\ntrascendente y emotivo que se produce cada vez qu
 e ella se encuentra con su\ngente.</span></p><p class="MsoNoSpacing"><span
  style="font-size: 12pt\; font-family: Arial\;">Con el tango como\nprincip
 al sujeto estético\, hará también algunos temas que no siendo del géne
 ro\,\ninterpreta de manera tan personal\, que están definitivamente inclu
 idos en su ya\nclásico repertorio de nuestra música ciudadana. Autores c
 omo Cadícamo\,\nExpósito\, Manzi y Sabina entre otros\, conformarán la 
 antología musical y\npoética con la que La Artista se presentará en la 
 ciudad.</span></p><hr><h3 data-start="127" data-end="160" style="text-alig
 n: center\;"><span style="font-weight: bolder\;"><font color="#397b21">¿C
 ómo recibo mis entradas?</font></span></h3><p data-start="162" data-end="
 352"></p><div style="text-align: center\;"><span style="font-size: 1rem\;"
 >Tus&nbsp\;</span><span data-start="166" data-end="179" style="font-size: 
 1rem\;"><span style="font-weight: bolder\;"><font color="#397b21">e-ticket
 s</font></span></span><span style="font-size: 1rem\;">&nbsp\;estarán disp
 onibles directamente en la&nbsp\;</span><span data-start="219" data-end="2
 48" style="font-size: 1rem\;"><span style="font-weight: bolder\;"><font co
 lor="#397b21">Wallet de Planeta Entrada</font></span></span><span style="f
 ont-size: 1rem\;">\, vinculada al correo electrónico con el que realizast
 e la compra.</span></div><div style="text-align: center\;"><span style="fo
 nt-size: 1rem\;">No recibirás las entradas por mail.</span></div><p></p><
 p data-start="354" data-end="793"></p><div style="text-align: center\;"><s
 pan data-start="357" data-end="376" style="font-size: 1rem\;"><span style=
 "font-weight: bolder\;"><font color="#397b21">Disponibilidad:</font></span
 ></span><span style="font-size: 1rem\;">&nbsp\;los códigos</span><span st
 yle="font-size: 1rem\;"><font color="#397b21">&nbsp\;</font></span><span d
 ata-start="389" data-end="448" style="font-size: 1rem\;"><span style="font
 -weight: bolder\;"><font color="#397b21">Q</font><font color="#397b21">R s
 e habilitan automáticamente el mismo día del evento</font></span></span>
 <span style="font-size: 1rem\;">.</span></div><div style="text-align: cent
 er\;"><span data-start="455" data-end="473" style="font-size: 1rem\;"><spa
 n style="font-weight: bolder\;"><font color="#397b21">Visualización:</fon
 t></span></span><span style="font-size: 1rem\;">&nbsp\;podés verlas desde
  la app&nbsp\;</span><span style="font-size: 1rem\;">Wallet</span><span st
 yle="font-size: 1rem\;">&nbsp\;o en nuestra pagina web.</span></div><div s
 tyle="text-align: center\;"><span style="font-weight: bolder\; font-size: 
 1rem\;"><span data-start="536" data-end="548"><font color="#397b21">Ingres
 o:</font></span>&nbsp\;</span><span style="font-size: 1rem\;">mostrás el 
 código QR desde tu celular al ingresar al evento (no hace falta imprimir 
 nada).</span></div><div style="text-align: center\;"><span style="font-wei
 ght: bolder\; font-size: 1rem\;"><span data-start="645" data-end="664"><fo
 nt color="#397b21">Transferencias:</font></span>&nbsp\;</span><span style=
 "font-size: 1rem\;">si querés ceder una entrada a otra persona\, podés h
 acerlo desde la misma Wallet\, ingresando su nombre\, DNI y correo electr
 ónico.</span></div><p></p><p></p><p data-start="795" data-end="903" style
 ="text-align: center\;"><span style="font-size: 24px\;"><span style="font-
 weight: bolder\;"><font color="#397b21">Planeta Entrada</font></span></spa
 n><span style="font-size: 24px\;">&nbsp\;<span style="font-size: 18px\;">
 – simple\, rápido y sin papeles.</span></span></p><p data-start="795" d
 ata-end="903" style="text-align: center\;"><span style="color: rgb(0\, 176
 \, 80)\; font-family: &quot\;Segoe UI&quot\;\, sans-serif\; font-size: 14p
 t\; font-weight: bolder\;"><br></span></p><p data-start="795" data-end="90
 3" style="text-align: center\;"><span style="font-family: &quot\;Segoe UI&
 quot\;\, sans-serif\; font-size: 14pt\;"><font color="#397b21"><span style
 ="font-weight: bolder\;">¡DESCARGA LA WALLET DE PLANETA ENTRADA!</span></
 font></span></p><p class="MsoNormal" align="center" style="margin-bottom: 
 0.0001pt\; background-image: initial\; background-position: initial\; back
 ground-size: initial\; background-repeat: initial\; background-attachment:
  initial\; background-origin: initial\; background-clip: initial\; text-al
 ign: center\; line-height: normal\;"></p><div style="text-align: center\;"
 ><a href="https://apps.apple.com/ar/app/planeta-entrada-wallet/id675184704
 9" target="_blank" style="background-color: rgb(255\, 255\, 255)\; font-si
 ze: 1rem\;">Planeta Entrada Wallet iOS</a></div><p><span data-start="455" 
 data-end="473"></span><span style="font-weight: bolder\;"></span><span sty
 le="font-weight: bolder\;"></span></p><div style="text-align: center\;"><a
  href="https://play.google.com/store/apps/details?id=com.planeta.wallet" t
 arget="_blank"></a><a href="https://play.google.com/store/apps/details?id=
 com.planeta.wallet" target="_blank" style="background-color: rgb(255\, 255
 \, 255)\; font-size: 1rem\;">Planeta Entrada Wallet Android</a></div>
END:VEVENT
END:VCALENDAR
