BEGIN:VCALENDAR
VERSION:2.0
PRODID:-//My Calendar//mxm.dk//
BEGIN:VEVENT
SUMMARY:EMI | 16 ABRIL | SAN NICOLAS
DTSTART:20230416T230000Z
DTEND:20230417T150000Z
DTSTAMP:20260425T140104Z
DESCRIPTION:
END:VEVENT
END:VCALENDAR
