BEGIN:VCALENDAR
VERSION:2.0
PRODID:-//My Calendar//mxm.dk//
BEGIN:VEVENT
SUMMARY:KUELGUE | SANTA ROSA
DTSTART:20250921T000000Z
DTEND:20250921T093800Z
DTSTAMP:20260419T102030Z
DESCRIPTION:<p class="MsoNormal" align="center" style="margin-bottom: 0.00
 01pt\; background-image: initial\; background-position: initial\; backgrou
 nd-size: initial\; background-repeat: initial\; background-attachment: ini
 tial\; background-origin: initial\; background-clip: initial\; font-family
 : Abel\, sans-serif\; text-size-adjust: 100%\; line-height: normal\;"><br>
 </p>
END:VEVENT
END:VCALENDAR
