BEGIN:VCALENDAR
VERSION:2.0
PRODID:-//My Calendar//mxm.dk//
BEGIN:VEVENT
SUMMARY:EL GATO CON BOTAS | 20 JULIO | SANTA ROSA
DTSTART:20230720T203000Z
DTEND:20230720T220600Z
DTSTAMP:20260420T041958Z
DESCRIPTION:<p>Llega al Teatro el Gato más famoso del mundo en "Las avent
 uras del Gato con Botas"El Musical en vivo\, con efectos 3D que promete di
 vertir a grandes y chicos sin parar.</p><p>Un espectáculo lleno de cancio
 nes\, coreografías\, acrobacias\, acción y mucho más...</p><p>El Gato e
 strella\, al enterarse que solo le queda una vida\, emprende un heroico ca
 minopara encontrar la Estrella de los Deseos y pedir restaurar sus nueve v
 idas.</p><p>Acompañado de sus amigos gatunos te invitan a recorrer un via
 je lleno de aventuras\,donde aprenderán la importancia de disfrutar la vi
 da\, tomar riesgos y ser uno mismo.</p><p>Ayudá a nuestro protagonista a 
 realizar su deseo. ¿Lograrán cumplir su misión?</p>
END:VEVENT
END:VCALENDAR
