BEGIN:VCALENDAR
VERSION:2.0
PRODID:-//My Calendar//mxm.dk//
BEGIN:VEVENT
SUMMARY:VALE CON BIGOTE | SANTA ROSA
DTSTART:20240728T000000Z
DTEND:20240728T025500Z
DTSTAMP:20260423T132459Z
DESCRIPTION:
END:VEVENT
END:VCALENDAR
