BEGIN:VCALENDAR
VERSION:2.0
PRODID:-//My Calendar//mxm.dk//
BEGIN:VEVENT
SUMMARY:VELVET | 20 ABRIL | SANTA ROSA
DTSTART:20240421T025500Z
DTEND:20240421T094700Z
DTSTAMP:20260420T091705Z
DESCRIPTION:<p style="text-align: center\; "><b><font color="#ff00ff"><spa
 n style="font-size: 24px\;">FIN DE LA VENTA ONLINE - PUEDE SEGUIR COMPRAND
 O EN BOLETERIA</span></font></b></p>
END:VEVENT
END:VCALENDAR
