BEGIN:VCALENDAR
VERSION:2.0
PRODID:-//My Calendar//mxm.dk//
BEGIN:VEVENT
SUMMARY:TROPICALISIMO FANTASIA | BRAGADO
DTSTART:20260509T025900Z
DTEND:20260509T110000Z
DTSTAMP:20260421T085534Z
DESCRIPTION:<h3 data-start="127" data-end="160" style="text-align: center\
 ;"><p style="margin: 0px 0px 12px\; font-variant-numeric: normal\; font-va
 riant-east-asian: normal\; font-variant-alternates: normal\; font-variant-
 position: normal\; font-variant-emoji: normal\; font-size: 12px\; line-hei
 ght: normal\; font-family: &quot\;Times New Roman&quot\;\; font-size-adjus
 t: none\; font-kerning: auto\; font-feature-settings: normal\; font-optica
 l-sizing: auto\; font-variation-settings: normal\; -webkit-text-stroke-col
 or: rgb(0\, 0\, 0)\; min-height: 13.8px\;"><span style="font-weight: bolde
 r\; color: rgb(57\, 123\, 33)\; font-family: -apple-system\, BlinkMacSyste
 mFont\, &quot\;Segoe UI&quot\;\, Roboto\, &quot\;Helvetica Neue&quot\;\, A
 rial\, &quot\;Noto Sans&quot\;\, sans-serif\, &quot\;Apple Color Emoji&quo
 t\;\, &quot\;Segoe UI Emoji&quot\;\, &quot\;Segoe UI Symbol&quot\;\, &quot
 \;Noto Color Emoji&quot\;\; font-size: 1.75rem\;">¿Cómo recibo mis entra
 das?</span></p></h3><p data-start="162" data-end="352"></p><div style="tex
 t-align: center\;"><span style="font-size: 1rem\;">Tus<span style="font-we
 ight: bolder\;">&nbsp\;</span></span><span data-start="166" data-end="179"
  style="font-size: 1rem\;"><font color="#397b21"><span style="font-weight:
  bolder\;">e-tickets</span></font></span><span style="font-size: 1rem\;">&
 nbsp\;estarán disponibles directamente en la&nbsp\;</span><span data-star
 t="219" data-end="248" style="font-size: 1rem\;"><font color="#397b21"><sp
 an style="font-weight: bolder\;">Wallet de Planeta Entrada</span></font></
 span><span style="font-size: 1rem\;">\, vinculada al correo electrónico c
 on el que realizaste la compra.</span></div><div style="text-align: center
 \;"><span style="font-size: 1rem\;">No recibirás las entradas por mail.</
 span></div><p></p><p data-start="354" data-end="793"></p><div style="text-
 align: center\;"><span data-start="357" data-end="376" style="font-size: 1
 rem\;"><font color="#397b21"><span style="font-weight: bolder\;">Disponibi
 lidad:</span></font></span><span style="font-size: 1rem\;"><span style="fo
 nt-weight: bolder\;">&nbsp\;</span>los códigos</span><span style="font-si
 ze: 1rem\;"><font color="#397b21">&nbsp\;</font></span><span data-start="3
 89" data-end="448" style="font-size: 1rem\;"><span style="font-weight: bol
 der\;"><font color="#397b21">Q</font><font color="#397b21">R se habilitan 
 automáticamente el mismo día del evento</font></span></span><span style=
 "font-weight: bolder\; font-size: 1rem\;">.</span></div><div style="text-a
 lign: center\;"><span data-start="455" data-end="473" style="font-size: 1r
 em\;"><font color="#397b21"><span style="font-weight: bolder\;">Visualizac
 ión:</span></font></span><span style="font-size: 1rem\;"><span style="fon
 t-weight: bolder\;">&nbsp\;</span>podés verlas desde la app&nbsp\;</span>
 <span style="font-size: 1rem\;">Wallet</span><span style="font-size: 1rem\
 ;">&nbsp\;o en nuestra pagina web.</span></div><div style="text-align: cen
 ter\;"><span style="font-size: 1rem\;"><span data-start="536" data-end="54
 8"><font color="#397b21"><span style="font-weight: bolder\;">Ingreso:</spa
 n></font></span><span style="font-weight: bolder\;">&nbsp\;</span></span><
 span style="font-size: 1rem\;">mostrás el código QR desde tu celular al 
 ingresar al evento (no hace falta imprimir nada).</span></div><div style="
 text-align: center\;"><span style="font-size: 1rem\;"><span style="font-we
 ight: bolder\;"><span data-start="645" data-end="664"><font color="#397b21
 ">Transferencias:</font></span>&nbsp\;</span></span><span style="font-size
 : 1rem\;">si querés ceder una entrada a otra persona\, podés hacerlo des
 de la misma Wallet\, ingresando su nombre\, DNI y correo electrónico.</sp
 an></div><p></p><p></p><p data-start="795" data-end="903" style="text-alig
 n: center\;"><span style="font-size: 24px\;"><font color="#397b21"><span s
 tyle="font-weight: bolder\;">Planeta Entrada</span></font></span><span sty
 le="font-size: 24px\;">&nbsp\;<span style="font-size: 18px\;">– simple\,
  rápido y sin papeles.</span></span></p><p data-start="795" data-end="903
 " style="text-align: center\;"><span style="color: rgb(0\, 176\, 80)\; fon
 t-family: &quot\;Segoe UI&quot\;\, sans-serif\; font-size: 14pt\; font-wei
 ght: bolder\;"><br></span></p><p data-start="795" data-end="903" style="te
 xt-align: center\;"><span style="font-family: &quot\;Segoe UI&quot\;\, san
 s-serif\; font-size: 14pt\;"><font color="#397b21"><span style="font-weigh
 t: bolder\;">¡DESCARGA LA WALLET DE PLANETA ENTRADA!</span></font></span>
 </p><p class="MsoNormal" align="center" style="margin-bottom: 0.0001pt\; b
 ackground-image: initial\; background-position: initial\; background-size:
  initial\; background-repeat: initial\; background-attachment: initial\; b
 ackground-origin: initial\; background-clip: initial\; text-align: center\
 ; line-height: normal\;"></p><div style="text-align: center\;"><a href="ht
 tps://apps.apple.com/ar/app/planeta-entrada-wallet/id6751847049" target="_
 blank" style="background-color: rgb(255\, 255\, 255)\; font-size: 1rem\;">
 <span style="font-weight: bolder\;">Planeta Entrada Wallet iOS</span></a><
 /div><p><span data-start="455" data-end="473"></span><span style="font-wei
 ght: bolder\;"></span><span style="font-weight: bolder\;"></span></p><div 
 style="text-align: center\;"><span style="font-weight: bolder\;"><a href="
 https://play.google.com/store/apps/details?id=com.planeta.wallet" target="
 _blank"></a><a href="https://play.google.com/store/apps/details?id=com.pla
 neta.wallet" target="_blank" style="background-color: rgb(255\, 255\, 255)
 \; font-size: 1rem\;">Planeta Entrada Wallet Android</a></span></div>
END:VEVENT
END:VCALENDAR
