BEGIN:VCALENDAR
VERSION:2.0
PRODID:-//My Calendar//mxm.dk//
BEGIN:VEVENT
SUMMARY:KUELGUE | CHIVILCOY
DTSTART:20260725T003000Z
DTEND:20260725T050000Z
DTSTAMP:20260424T030546Z
DESCRIPTION:<h3 data-start="127" data-end="160" style="font-family: Abel\,
  sans-serif\; text-align: center\;"><font color="#0000ff">ENTRADAS DISPONI
 BLES DESDE EL JUEVES 23 A LAS 16 HS.</font></h3><hr><h3 data-start="127" d
 ata-end="160" style="font-family: Abel\, sans-serif\; text-align: center\;
 "><span style="font-weight: bolder\; color: rgb(57\, 123\, 33)\; font-size
 : 1.75rem\; font-family: -apple-system\, BlinkMacSystemFont\, &quot\;Segoe
  UI&quot\;\, Roboto\, &quot\;Helvetica Neue&quot\;\, Arial\, &quot\;Noto S
 ans&quot\;\, sans-serif\, &quot\;Apple Color Emoji&quot\;\, &quot\;Segoe U
 I Emoji&quot\;\, &quot\;Segoe UI Symbol&quot\;\, &quot\;Noto Color Emoji&q
 uot\;\;">¿Cómo recibo mis entradas?</span></h3><h3 data-start="127" data
 -end="160" style="text-align: center\;"><p data-start="162" data-end="352"
  style="font-size: 16px\; text-align: left\;"></p><div style="font-size: 1
 6px\;"><span style="font-size: 1rem\;">Tus&nbsp\;</span><span data-start="
 166" data-end="179" style="font-size: 1rem\;"><font color="#397b21"><span 
 style="font-weight: bolder\;">e-tickets</span></font></span><span style="f
 ont-size: 1rem\;">&nbsp\;estarán disponibles directamente en la&nbsp\;</s
 pan><span data-start="219" data-end="248" style="font-size: 1rem\;"><font 
 color="#397b21"><span style="font-weight: bolder\;">Wallet de Planeta Entr
 ada</span></font></span><span style="font-size: 1rem\;">\, vinculada al co
 rreo electrónico con el que realizaste la compra.</span></div><div style=
 "font-size: 16px\;"><span style="font-size: 1rem\;">No recibirás las entr
 adas por mail.</span></div><p style="font-size: 16px\; text-align: left\;"
 ></p><p data-start="354" data-end="793" style="font-size: 16px\; text-alig
 n: left\;"></p><div style="font-size: 16px\;"><span data-start="357" data-
 end="376" style="font-size: 1rem\;"><font color="#397b21"><span style="fon
 t-weight: bolder\;">Disponibilidad:</span></font></span><span style="font-
 size: 1rem\;">&nbsp\;los códigos</span><span style="font-size: 1rem\;"><f
 ont color="#397b21">&nbsp\;</font></span><span style="font-weight: bolder\
 ;"><span data-start="389" data-end="448" style="font-size: 1rem\;"><font c
 olor="#397b21">Q</font><font color="#397b21">R se habilitan automáticamen
 te el mismo día del evento</font></span><span style="font-size: 1rem\;">.
 </span></span></div><div style="font-size: 16px\;"><span data-start="455" 
 data-end="473" style="font-size: 1rem\;"><font color="#397b21"><span style
 ="font-weight: bolder\;">Visualización:</span></font></span><span style="
 font-size: 1rem\;">&nbsp\;podés verlas desde la app&nbsp\;</span><span st
 yle="font-size: 1rem\;">Wallet</span><span style="font-size: 1rem\;">&nbsp
 \;o en nuestra pagina web.</span></div><div style="font-size: 16px\;"><spa
 n style="font-size: 1rem\;"><span style="font-weight: bolder\;"><span data
 -start="536" data-end="548"><font color="#397b21">Ingreso:</font></span>&n
 bsp\;</span></span><span style="font-size: 1rem\;">mostrás el código QR 
 desde tu celular al ingresar al evento (no hace falta imprimir nada).</spa
 n></div><div style="font-size: 16px\;"><span style="font-size: 1rem\;"><sp
 an style="font-weight: bolder\;"><span data-start="645" data-end="664"><fo
 nt color="#397b21">Transferencias:</font></span>&nbsp\;</span></span><span
  style="font-size: 1rem\;">si querés ceder una entrada a otra persona\, p
 odés hacerlo desde la misma Wallet\, ingresando su nombre\, DNI y correo 
 electrónico.</span></div><p style="font-size: 16px\; text-align: left\;">
 </p><p style="font-size: 16px\; text-align: left\;"></p><p data-start="795
 " data-end="903" style="font-size: 16px\;"><span style="font-size: 24px\;"
 ><font color="#397b21"><span style="font-weight: bolder\;">Planeta Entrada
 </span></font></span><span style="font-size: 24px\;">&nbsp\;<span style="f
 ont-size: 18px\;">– simple\, rápido y sin papeles.</span></span></p><p 
 data-start="795" data-end="903" style="font-size: 16px\;"><span style="col
 or: rgb(0\, 176\, 80)\; font-family: &quot\;Segoe UI&quot\;\, sans-serif\;
  font-size: 14pt\; font-weight: bolder\;"><br></span></p><p data-start="79
 5" data-end="903" style="font-size: 16px\;"><span style="font-family: &quo
 t\;Segoe UI&quot\;\, sans-serif\; font-size: 14pt\;"><font color="#397b21"
 ><span style="font-weight: bolder\;">¡DESCARGA LA WALLET DE PLANETA ENTRA
 DA!</span></font></span></p><p class="MsoNormal" align="center" style="mar
 gin-bottom: 0.0001pt\; font-size: 16px\; background-image: initial\; backg
 round-position: initial\; background-size: initial\; background-repeat: in
 itial\; background-attachment: initial\; background-origin: initial\; back
 ground-clip: initial\; line-height: normal\;"></p><div style="font-size: 1
 6px\;"><a href="https://apps.apple.com/ar/app/planeta-entrada-wallet/id675
 1847049" target="_blank" style="background-color: rgb(255\, 255\, 255)\; f
 ont-size: 1rem\;">Planeta Entrada Wallet iOS</a></div><p style="font-size:
  16px\; text-align: left\;"><span data-start="455" data-end="473"></span><
 span style="font-weight: bolder\;"></span><span style="font-weight: bolder
 \;"></span></p><div style="font-size: 16px\;"><a href="https://play.google
 .com/store/apps/details?id=com.planeta.wallet" target="_blank"></a><a href
 ="https://play.google.com/store/apps/details?id=com.planeta.wallet" target
 ="_blank" style="background-color: rgb(255\, 255\, 255)\; font-size: 1rem\
 ;">Planeta Entrada Wallet Android</a></div></h3>
END:VEVENT
END:VCALENDAR
