BEGIN:VCALENDAR
VERSION:2.0
PRODID:-//My Calendar//mxm.dk//
BEGIN:VEVENT
SUMMARY:GOLPE SOLIDARIO | NECOCHEA
DTSTART:20260516T230000Z
DTEND:20260517T060000Z
DTSTAMP:20260421T091631Z
DESCRIPTION:<h3 data-start="127" data-end="160" style="font-family: Abel\,
  sans-serif\; text-align: center\;"><p data-start="0" data-end="25"><stron
 g data-start="0" data-end="25">CRONOGRAMA DEL EVENTO</strong></p>\n<p data
 -start="27" data-end="100" data-is-last-node="" data-is-only-node=""><stro
 ng data-start="30" data-end="59">20:00 HS – PELEAS AMATEUR</strong><br d
 ata-start="59" data-end="62" data-is-only-node=""><strong data-start="65" 
 data-end="100" data-is-last-node="">22:00 HS – PELEAS PROFESIONALES</str
 ong></p></h3><hr><h3 data-start="127" data-end="160" style="font-family: A
 bel\, sans-serif\; text-align: center\;"><span style="font-weight: bolder\
 ;"><font color="#397b21">¿Cómo recibo mis entradas?</font></span></h3><p
  data-start="162" data-end="352" style="font-family: Abel\, sans-serif\; t
 ext-align: center\;"></p><div style="font-family: Abel\, sans-serif\; text
 -align: center\;"><span style="font-size: 1rem\;">Tus&nbsp\;</span><span d
 ata-start="166" data-end="179" style="font-size: 1rem\;"><span style="font
 -weight: bolder\;"><font color="#397b21">e-tickets</font></span></span><sp
 an style="font-size: 1rem\;">&nbsp\;estarán disponibles directamente en l
 a&nbsp\;</span><span data-start="219" data-end="248" style="font-size: 1re
 m\;"><span style="font-weight: bolder\;"><font color="#397b21">Wallet de P
 laneta Entrada</font></span></span><span style="font-size: 1rem\;">\, vinc
 ulada al correo electrónico con el que realizaste la compra.</span></div>
 <div style="font-family: Abel\, sans-serif\; text-align: center\;"><span s
 tyle="font-size: 1rem\;">No recibirás las entradas por mail.</span></div>
 <p style="font-family: Abel\, sans-serif\; text-align: center\;"></p><p da
 ta-start="354" data-end="793" style="font-family: Abel\, sans-serif\; text
 -align: center\;"></p><div style="font-family: Abel\, sans-serif\; text-al
 ign: center\;"><span data-start="357" data-end="376" style="font-size: 1re
 m\;"><span style="font-weight: bolder\;"><font color="#397b21">Disponibili
 dad:</font></span></span><span style="font-size: 1rem\;">&nbsp\;los códig
 os</span><span style="font-size: 1rem\;"><font color="#397b21">&nbsp\;</fo
 nt></span><span data-start="389" data-end="448" style="font-size: 1rem\;">
 <span style="font-weight: bolder\;"><font color="#397b21">Q</font><font co
 lor="#397b21">R se habilitan automáticamente el mismo día del evento</fo
 nt></span></span><span style="font-size: 1rem\;">.</span></div><div style=
 "font-family: Abel\, sans-serif\; text-align: center\;"><span data-start="
 455" data-end="473" style="font-size: 1rem\;"><span style="font-weight: bo
 lder\;"><font color="#397b21">Visualización:</font></span></span><span st
 yle="font-size: 1rem\;">&nbsp\;podés verlas desde la app&nbsp\;</span><sp
 an style="font-size: 1rem\;">Wallet</span><span style="font-size: 1rem\;">
 &nbsp\;o en nuestra pagina web.</span></div><div style="font-family: Abel\
 , sans-serif\; text-align: center\;"><span style="font-weight: bolder\; fo
 nt-size: 1rem\;"><span data-start="536" data-end="548"><font color="#397b2
 1">Ingreso:</font></span>&nbsp\;</span><span style="font-size: 1rem\;">mos
 trás el código QR desde tu celular al ingresar al evento (no hace falta 
 imprimir nada).</span></div><div style="font-family: Abel\, sans-serif\; t
 ext-align: center\;"><span style="font-weight: bolder\; font-size: 1rem\;"
 ><span data-start="645" data-end="664"><font color="#397b21">Transferencia
 s:</font></span>&nbsp\;</span><span style="font-size: 1rem\;">si querés c
 eder una entrada a otra persona\, podés hacerlo desde la misma Wallet\, i
 ngresando su nombre\, DNI y correo electrónico.</span></div><p style="fon
 t-family: Abel\, sans-serif\; text-align: center\;"></p><p style="font-fam
 ily: Abel\, sans-serif\; text-align: center\;"></p><p data-start="795" dat
 a-end="903" style="font-family: Abel\, sans-serif\; text-align: center\;">
 <span style="font-size: 24px\;"><span style="font-weight: bolder\;"><font 
 color="#397b21">Planeta Entrada</font></span></span><span style="font-size
 : 24px\;">&nbsp\;<span style="font-size: 18px\;">– simple\, rápido y si
 n papeles.</span></span></p><p data-start="795" data-end="903" style="font
 -family: Abel\, sans-serif\; text-align: center\;"><span style="color: rgb
 (0\, 176\, 80)\; font-family: &quot\;Segoe UI&quot\;\, sans-serif\; font-s
 ize: 14pt\; font-weight: bolder\;"><br></span></p><p data-start="795" data
 -end="903" style="font-family: Abel\, sans-serif\; text-align: center\;"><
 span style="font-family: &quot\;Segoe UI&quot\;\, sans-serif\; font-size: 
 14pt\;"><font color="#397b21"><span style="font-weight: bolder\;">¡DESCAR
 GA LA WALLET DE PLANETA ENTRADA!</span></font></span></p><p class="MsoNorm
 al" align="center" style="margin-bottom: 0.0001pt\; background-image: init
 ial\; background-position: initial\; background-size: initial\; background
 -repeat: initial\; background-attachment: initial\; background-origin: ini
 tial\; background-clip: initial\; font-family: Abel\, sans-serif\; text-al
 ign: center\; line-height: normal\;"></p><div style="font-family: Abel\, s
 ans-serif\; text-align: center\;"><a href="https://apps.apple.com/ar/app/p
 laneta-entrada-wallet/id6751847049" target="_blank" style="background-colo
 r: rgb(255\, 255\, 255)\; font-size: 1rem\;">Planeta Entrada Wallet iOS</a
 ></div><p style="font-family: Abel\, sans-serif\; text-align: center\;"><s
 pan data-start="455" data-end="473"></span><span style="font-weight: bolde
 r\;"></span><span style="font-weight: bolder\;"></span></p><div style="fon
 t-family: Abel\, sans-serif\; text-align: center\;"><a href="https://play.
 google.com/store/apps/details?id=com.planeta.wallet" target="_blank"></a><
 a href="https://play.google.com/store/apps/details?id=com.planeta.wallet" 
 target="_blank" style="background-color: rgb(255\, 255\, 255)\; font-size:
  1rem\;">Planeta Entrada Wallet Android</a></div>
END:VEVENT
END:VCALENDAR
