BEGIN:VCALENDAR
VERSION:2.0
PRODID:-//My Calendar//mxm.dk//
BEGIN:VEVENT
SUMMARY:ME VERAS VOLVER | HERNAN PIQUIN | NECOCHEA
DTSTART:20260530T000000Z
DTEND:20260530T070000Z
DTSTAMP:20260419T232437Z
DESCRIPTION:<h3 data-start="127" data-end="160" style="text-align: center\
 ;"><span style="color: rgb(57\, 123\, 33)\; font-size: 18px\; font-weight:
  bolder\;">¿Cómo recibo mis entradas?</span></h3><h3 data-start="127" da
 ta-end="160" style="text-align: center\;"><p data-start="162" data-end="35
 2" style="font-size: 16px\; text-align: left\;"></p><div style="font-size:
  16px\;"><span style="font-size: 1rem\;">Tus&nbsp\;</span><span data-start
 ="166" data-end="179" style="font-size: 1rem\;"><font color="#397b21"><spa
 n style="font-weight: bolder\;">e-tickets</span></font></span><span style=
 "font-size: 1rem\;">&nbsp\;estarán disponibles directamente en la&nbsp\;<
 /span><span data-start="219" data-end="248" style="font-size: 1rem\;"><fon
 t color="#397b21"><span style="font-weight: bolder\;">Wallet de Planeta En
 trada</span></font></span><span style="font-size: 1rem\;">\, vinculada al 
 correo electrónico con el que realizaste la compra.</span></div><div styl
 e="font-size: 16px\;"><span style="font-size: 1rem\;">No recibirás las en
 tradas por mail.</span></div><p style="font-size: 16px\; text-align: left\
 ;"></p><p data-start="354" data-end="793" style="font-size: 16px\; text-al
 ign: left\;"></p><div style="font-size: 16px\;"><span data-start="357" dat
 a-end="376" style="font-size: 1rem\;"><font color="#397b21"><span style="f
 ont-weight: bolder\;">Disponibilidad:</span></font></span><span style="fon
 t-size: 1rem\;">&nbsp\;los códigos</span><span style="font-size: 1rem\;">
 <font color="#397b21">&nbsp\;</font></span><span style="font-weight: bolde
 r\;"><span data-start="389" data-end="448" style="font-size: 1rem\;"><font
  color="#397b21">Q</font><font color="#397b21">R se habilitan automáticam
 ente el mismo día del evento</font></span><span style="font-size: 1rem\;"
 >.</span></span></div><div style="font-size: 16px\;"><span data-start="455
 " data-end="473" style="font-size: 1rem\;"><font color="#397b21"><span sty
 le="font-weight: bolder\;">Visualización:</span></font></span><span style
 ="font-size: 1rem\;">&nbsp\;podés verlas desde la app&nbsp\;</span><span 
 style="font-size: 1rem\;">Wallet</span><span style="font-size: 1rem\;">&nb
 sp\;o en nuestra pagina web.</span></div><div style="font-size: 16px\;"><s
 pan style="font-size: 1rem\;"><span style="font-weight: bolder\;"><span da
 ta-start="536" data-end="548"><font color="#397b21">Ingreso:</font></span>
 &nbsp\;</span></span><span style="font-size: 1rem\;">mostrás el código Q
 R desde tu celular al ingresar al evento (no hace falta imprimir nada).</s
 pan></div><div style="font-size: 16px\;"><span style="font-size: 1rem\;"><
 span style="font-weight: bolder\;"><span data-start="645" data-end="664"><
 font color="#397b21">Transferencias:</font></span>&nbsp\;</span></span><sp
 an style="font-size: 1rem\;">si querés ceder una entrada a otra persona\,
  podés hacerlo desde la misma Wallet\, ingresando su nombre\, DNI y corre
 o electrónico.</span></div><p style="font-size: 16px\; text-align: left\;
 "></p><p style="font-size: 16px\; text-align: left\;"></p><p data-start="7
 95" data-end="903" style="font-size: 16px\;"><span style="font-size: 24px\
 ;"><font color="#397b21"><span style="font-weight: bolder\;">Planeta Entra
 da</span></font></span><span style="font-size: 24px\;">&nbsp\;<span style=
 "font-size: 18px\;">– simple\, rápido y sin papeles.</span></span></p><
 p data-start="795" data-end="903" style="font-size: 16px\;"><span style="c
 olor: rgb(0\, 176\, 80)\; font-family: &quot\;Segoe UI&quot\;\, sans-serif
 \; font-size: 14pt\; font-weight: bolder\;"><br></span></p><p data-start="
 795" data-end="903" style="font-size: 16px\;"><span style="font-family: &q
 uot\;Segoe UI&quot\;\, sans-serif\; font-size: 14pt\;"><font color="#397b2
 1"><span style="font-weight: bolder\;">¡DESCARGA LA WALLET DE PLANETA ENT
 RADA!</span></font></span></p><p class="MsoNormal" align="center" style="m
 argin-bottom: 0.0001pt\; font-size: 16px\; background-image: initial\; bac
 kground-position: initial\; background-size: initial\; background-repeat: 
 initial\; background-attachment: initial\; background-origin: initial\; ba
 ckground-clip: initial\; line-height: normal\;"></p><div style="font-size:
  16px\;"><a href="https://apps.apple.com/ar/app/planeta-entrada-wallet/id6
 751847049" target="_blank" style="background-color: rgb(255\, 255\, 255)\;
  font-size: 1rem\;">Planeta Entrada Wallet iOS</a></div><p style="font-siz
 e: 16px\; text-align: left\;"><span data-start="455" data-end="473"></span
 ><span style="font-weight: bolder\;"></span><span style="font-weight: bold
 er\;"></span></p><div style="font-size: 16px\;"><a href="https://play.goog
 le.com/store/apps/details?id=com.planeta.wallet" target="_blank"></a><a hr
 ef="https://play.google.com/store/apps/details?id=com.planeta.wallet" targ
 et="_blank" style="background-color: rgb(255\, 255\, 255)\; font-size: 1re
 m\;">Planeta Entrada Wallet Android</a></div></h3>
END:VEVENT
END:VCALENDAR
