BEGIN:VCALENDAR
VERSION:2.0
PRODID:-//My Calendar//mxm.dk//
BEGIN:VEVENT
SUMMARY:ERUCA SATIVA | PERGAMINO
DTSTART:20260517T000000Z
DTEND:20260517T120000Z
DTSTAMP:20260421T085750Z
DESCRIPTION:<h3 data-start="127" data-end="160" style="text-align: center\
 ;"><font color="#104a5a">ENTRADAS HABILITADAS DESDE EL MARTES 3 A LAS 19 H
 S</font></h3><hr><h3 data-start="127" data-end="160" style="text-align: ce
 nter\;"><span style="color: rgb(57\, 123\, 33)\; font-size: 1.75rem\; -web
 kit-tap-highlight-color: transparent\; -webkit-text-size-adjust: 100%\;">
 ¿Cómo recibo mis entradas?</span><br></h3><p data-start="162" data-end="
 352"></p><div style="text-align: center\;"><span style="font-size: 1rem\;"
 >Tus&nbsp\;</span><span data-start="166" data-end="179" style="font-size: 
 1rem\;"><font color="#397b21"><span style="font-weight: bolder\;">e-ticket
 s</span></font></span><span style="font-size: 1rem\;">&nbsp\;estarán disp
 onibles directamente en la&nbsp\;</span><span data-start="219" data-end="2
 48" style="font-size: 1rem\;"><font color="#397b21"><span style="font-weig
 ht: bolder\;">Wallet de Planeta Entrada</span></font></span><span style="f
 ont-size: 1rem\;">\, vinculada al correo electrónico con el que realizast
 e la compra.</span></div><div style="text-align: center\;"><span style="fo
 nt-size: 1rem\;">No recibirás las entradas por mail.</span></div><p></p><
 p data-start="354" data-end="793"></p><div style="text-align: center\;"><s
 pan data-start="357" data-end="376" style="font-size: 1rem\;"><font color=
 "#397b21"><span style="font-weight: bolder\;">Disponibilidad:</span></font
 ></span><span style="font-size: 1rem\;"><span style="font-weight: bolder\;
 ">&nbsp\;</span>los códigos</span><span style="font-size: 1rem\;"><font c
 olor="#397b21">&nbsp\;</font></span><span style="font-weight: bolder\;"><s
 pan data-start="389" data-end="448" style="font-size: 1rem\;"><font color=
 "#397b21">Q</font><font color="#397b21">R se habilitan automáticamente el
  mismo día del evento</font></span><span style="font-size: 1rem\;">.</spa
 n></span></div><div style="text-align: center\;"><span data-start="455" da
 ta-end="473" style="font-size: 1rem\;"><font color="#397b21"><span style="
 font-weight: bolder\;">Visualización:</span></font></span><span style="fo
 nt-size: 1rem\;"><span style="font-weight: bolder\;">&nbsp\;</span>podés 
 verlas desde la app&nbsp\;</span><span style="font-size: 1rem\;">Wallet</s
 pan><span style="font-size: 1rem\;">&nbsp\;o en nuestra pagina web.</span>
 </div><div style="text-align: center\;"><span style="font-size: 1rem\;"><s
 pan style="font-weight: bolder\;"><span data-start="536" data-end="548"><f
 ont color="#397b21">Ingreso:</font></span>&nbsp\;</span></span><span style
 ="font-size: 1rem\;">mostrás el código QR desde tu celular al ingresar a
 l evento (no hace falta imprimir nada).</span></div><div style="text-align
 : center\;"><span style="font-size: 1rem\;"><span style="font-weight: bold
 er\;"><span data-start="645" data-end="664"><font color="#397b21">Transfer
 encias:</font></span>&nbsp\;</span></span><span style="font-size: 1rem\;">
 si querés ceder una entrada a otra persona\, podés hacerlo desde la mism
 a Wallet\, ingresando su nombre\, DNI y correo electrónico.</span></div><
 p></p><p></p><p data-start="795" data-end="903" style="text-align: center\
 ;"><span style="font-size: 24px\;"><font color="#397b21"><span style="font
 -weight: bolder\;">Planeta Entrada</span></font></span><span style="font-s
 ize: 24px\;">&nbsp\;<span style="font-size: 18px\;">– simple\, rápido y
  sin papeles.</span></span></p><p data-start="795" data-end="903" style="t
 ext-align: center\;"><span style="color: rgb(0\, 176\, 80)\; font-family: 
 &quot\;Segoe UI&quot\;\, sans-serif\; font-size: 14pt\; font-weight: bolde
 r\;"><br></span></p><p data-start="795" data-end="903" style="text-align: 
 center\;"><span style="font-family: &quot\;Segoe UI&quot\;\, sans-serif\; 
 font-size: 14pt\;"><font color="#397b21"><span style="font-weight: bolder\
 ;">¡DESCARGA LA WALLET DE PLANETA ENTRADA!</span></font></span></p><p cla
 ss="MsoNormal" align="center" style="margin-bottom: 0.0001pt\; background-
 image: initial\; background-position: initial\; background-size: initial\;
  background-repeat: initial\; background-attachment: initial\; background-
 origin: initial\; background-clip: initial\; text-align: center\; line-hei
 ght: normal\;"></p><div style="text-align: center\;"><a href="https://apps
 .apple.com/ar/app/planeta-entrada-wallet/id6751847049" target="_blank" sty
 le="background-color: rgb(255\, 255\, 255)\; font-size: 1rem\;"><span styl
 e="font-weight: bolder\;">Planeta Entrada Wallet iOS</span></a></div><p><s
 pan data-start="455" data-end="473"></span><span style="font-weight: bolde
 r\;"></span><span style="font-weight: bolder\;"></span></p><div style="tex
 t-align: center\;"><span style="font-weight: bolder\;"><a href="https://pl
 ay.google.com/store/apps/details?id=com.planeta.wallet" target="_blank"></
 a><a href="https://play.google.com/store/apps/details?id=com.planeta.walle
 t" target="_blank" style="background-color: rgb(255\, 255\, 255)\; font-si
 ze: 1rem\;">Planeta Entrada Wallet Android</a></span></div>
END:VEVENT
END:VCALENDAR
