BEGIN:VCALENDAR
VERSION:2.0
PRODID:-//My Calendar//mxm.dk//
BEGIN:VEVENT
SUMMARY:LA DELIO VALDEZ | SOLEDAD | BRAGADO
DTSTART:20260301T003000Z
DTEND:20260301T050000Z
DTSTAMP:20260422T073014Z
DESCRIPTION:<h3 data-start="127" data-end="160" style="text-align: center\
 ;"><b style="color: rgb(57\, 123\, 33)\; font-size: 1.75rem\;">¿Cómo rec
 ibo mis entradas?</b></h3><p data-start="162" data-end="352"></p><div styl
 e="text-align: center\;"><span style="font-size: 1rem\;">Tus&nbsp\;</span>
 <span data-start="166" data-end="179" style="font-size: 1rem\;"><font colo
 r="#397b21"><b>e-tickets</b></font></span><span style="font-size: 1rem\;">
 &nbsp\;estarán disponibles directamente en la&nbsp\;</span><span data-sta
 rt="219" data-end="248" style="font-size: 1rem\;"><font color="#397b21"><b
 >Wallet de Planeta Entrada</b></font></span><span style="font-size: 1rem\;
 ">\, vinculada al correo electrónico con el que realizaste la compra.</sp
 an></div><div style="text-align: center\;"><span style="font-size: 1rem\;"
 >No recibirás las entradas por mail.</span></div><p></p><p data-start="35
 4" data-end="793"></p><div style="text-align: center\;"><span data-start="
 357" data-end="376" style="font-size: 1rem\;"><font color="#397b21"><b>Dis
 ponibilidad:</b></font></span><span style="font-size: 1rem\;"><b>&nbsp\;</
 b>los códigos</span><span style="font-size: 1rem\;"><font color="#397b21"
 >&nbsp\;</font></span><b><span data-start="389" data-end="448" style="font
 -size: 1rem\;"><font color="#397b21" style="">Q</font><font color="#397b21
 " style="">R se habilitan automáticamente el mismo día del evento</font>
 </span><span style="font-size: 1rem\;">.</span></b></div><div style="text-
 align: center\;"><span data-start="455" data-end="473" style="font-size: 1
 rem\;"><font color="#397b21"><b>Visualización:</b></font></span><span sty
 le="font-size: 1rem\;"><b>&nbsp\;</b>podés verlas desde la app&nbsp\;</sp
 an><span style="font-size: 1rem\;">Wallet</span><span style="font-size: 1r
 em\;">&nbsp\;o en nuestra pagina web.</span></div><div style="text-align: 
 center\;"><span style="font-size: 1rem\;"><b><span data-start="536" data-e
 nd="548" style=""><font color="#397b21" style="">Ingreso:</font></span>&nb
 sp\;</b></span><span style="font-size: 1rem\;">mostrás el código QR desd
 e tu celular al ingresar al evento (no hace falta imprimir nada).</span></
 div><div style="text-align: center\;"><span style="font-size: 1rem\;"><b><
 span data-start="645" data-end="664" style=""><font color="#397b21" style=
 "">Transferencias:</font></span>&nbsp\;</b></span><span style="font-size: 
 1rem\;">si querés ceder una entrada a otra persona\, podés hacerlo desde
  la misma Wallet\, ingresando su nombre\, DNI y correo electrónico.</span
 ></div><p></p><p></p><p data-start="795" data-end="903" style="text-align:
  center\;"><span style="font-size: 24px\;"><font color="#397b21"><b>Planet
 a Entrada</b></font></span><span style="font-size: 24px\;">&nbsp\;<span st
 yle="font-size: 18px\;">– simple\, rápido y sin papeles.</span></span><
 /p><p data-start="795" data-end="903" style="text-align: center\;"><span s
 tyle="color: rgb(0\, 176\, 80)\; font-family: &quot\;Segoe UI&quot\;\, san
 s-serif\; font-size: 14pt\; font-weight: bolder\;"><br></span></p><p data-
 start="795" data-end="903" style="text-align: center\;"><span style="font-
 family: &quot\;Segoe UI&quot\;\, sans-serif\; font-size: 14pt\;"><font col
 or="#397b21"><b>¡DESCARGA LA WALLET DE PLANETA ENTRADA!</b></font></span>
 </p><p class="MsoNormal" align="center" style="margin-bottom: 0.0001pt\; b
 ackground-image: initial\; background-position: initial\; background-size:
  initial\; background-repeat: initial\; background-attachment: initial\; b
 ackground-origin: initial\; background-clip: initial\; text-align: center\
 ; line-height: normal\;"></p><div style="text-align: center\;"><a href="ht
 tps://apps.apple.com/ar/app/planeta-entrada-wallet/id6751847049" target="_
 blank" style="background-color: rgb(255\, 255\, 255)\; font-size: 1rem\;">
 <b>Planeta Entrada Wallet iOS</b></a></div><p><span data-start="455" data-
 end="473"></span><span style="font-weight: bolder\;"></span><span style="f
 ont-weight: bolder\;"></span></p><div style="text-align: center\;"><b><a h
 ref="https://play.google.com/store/apps/details?id=com.planeta.wallet" tar
 get="_blank"></a><a href="https://play.google.com/store/apps/details?id=co
 m.planeta.wallet" target="_blank" style="background-color: rgb(255\, 255\,
  255)\; font-size: 1rem\;">Planeta Entrada Wallet Android</a></b></div>
END:VEVENT
END:VCALENDAR
